BEGIN:VCALENDAR
VERSION:2.0
PRODID:-//Vanuatu Rally Championship - ECPv6.15.20//NONSGML v1.0//EN
CALSCALE:GREGORIAN
METHOD:PUBLISH
X-ORIGINAL-URL:https://vanuaturally.com.vu
X-WR-CALDESC:Events for Vanuatu Rally Championship
REFRESH-INTERVAL;VALUE=DURATION:PT1H
X-Robots-Tag:noindex
X-PUBLISHED-TTL:PT1H
BEGIN:VTIMEZONE
TZID:Pacific/Efate
BEGIN:STANDARD
TZOFFSETFROM:+1100
TZOFFSETTO:+1100
TZNAME:+11
DTSTART:20230101T000000
END:STANDARD
END:VTIMEZONE
BEGIN:VEVENT
DTSTART;VALUE=DATE:20251101
DTEND;VALUE=DATE:20251102
DTSTAMP:20260426T065756
CREATED:20250126T213839Z
LAST-MODIFIED:20250429T072128Z
UID:12296-1761955200-1762041599@vanuaturally.com.vu
SUMMARY:Dry Creek Rally
DESCRIPTION:The Dry Creek Rally features a thrilling 100km super stage designed for high-speed action and precision driving. With a mix of fast straights and technical turns\, the track offers clear views for spectators to enjoy every moment of the race.
URL:https://vanuaturally.com.vu/event/dry-creek-rally/
CATEGORIES:Event,Upcoming events
ATTACH;FMTTYPE=image/png:https://vanuaturally.com.vu/wp-content/uploads/2025/01/Dry-Creek-Rally.png
END:VEVENT
BEGIN:VEVENT
DTSTART;VALUE=DATE:20251004
DTEND;VALUE=DATE:20251005
DTSTAMP:20260426T065756
CREATED:20250126T213157Z
LAST-MODIFIED:20250429T063008Z
UID:12292-1759536000-1759622399@vanuaturally.com.vu
SUMMARY:Devil's Point Rally
DESCRIPTION:The Devils Point Rally features a 50km super special stage set within the coconut plantation. This unique event allows spectators to view most of the track as two cars go head-to-head\, racing for the best time in an exhilarating display of speed and skill.
URL:https://vanuaturally.com.vu/event/devils-point-rally/
LOCATION:Devils Point\, Efate\, Vanuatu
CATEGORIES:Event,Upcoming events
ATTACH;FMTTYPE=image/png:https://vanuaturally.com.vu/wp-content/uploads/2025/01/Devils-Point-Rally.png
ORGANIZER;CN="Vanuatu Rally Championship":MAILTO:contact@vanuaturally.com
END:VEVENT
BEGIN:VEVENT
DTSTART;VALUE=DATE:20250821
DTEND;VALUE=DATE:20250825
DTSTAMP:20260426T065756
CREATED:20250126T211604Z
LAST-MODIFIED:20250429T063015Z
UID:12288-1755734400-1756079999@vanuaturally.com.vu
SUMMARY:International Rally (Port Vila)
DESCRIPTION:The International Rally Vanuatu is the premier motorsport event featuring top drivers from the Pacific and beyond. With challenging stages across Efate island and stunning landscapes\, it showcases the thrill of rally racing and Vanuatu’s unique beauty.
URL:https://vanuaturally.com.vu/event/international-rally-port-vila/
LOCATION:Efate\, Vanuatu
CATEGORIES:Event,Upcoming events
ATTACH;FMTTYPE=image/png:https://vanuaturally.com.vu/wp-content/uploads/2025/01/Macaron-International-Rally1.png
END:VEVENT
BEGIN:VEVENT
DTSTART;VALUE=DATE:20250517
DTEND;VALUE=DATE:20250518
DTSTAMP:20260426T065756
CREATED:20250126T205144Z
LAST-MODIFIED:20250429T074352Z
UID:12270-1747440000-1747526399@vanuaturally.com.vu
SUMMARY:Takara Rally
DESCRIPTION:Takara Rally 2025 Registration FormPlease enable JavaScript in your browser to complete this form.Please enable JavaScript in your browser to complete this form.Rally Registration Form - Step 1 of 5Select Class entered 4WD2WDQUADSDRIVER DETAILS / INFO PILOTEDriver's name *FirstLastDriver's Email Address *Driver's Mobile number *Driver's Physical Address Address Line 1Address Line 2CityState / Province / RegionPostal Code--- Select country ---AfghanistanAlbaniaAlgeriaAmerican SamoaAndorraAngolaAnguillaAntarcticaAntigua and BarbudaArgentinaArmeniaArubaAustraliaAustriaAzerbaijanBahamasBahrainBangladeshBarbadosBelarusBelgiumBelizeBeninBermudaBhutanBolivia (Plurinational State of)Bonaire\, Saint Eustatius and SabaBosnia and HerzegovinaBotswanaBouvet IslandBrazilBritish Indian Ocean TerritoryBrunei DarussalamBulgariaBurkina FasoBurundiCabo VerdeCambodiaCameroonCanadaCayman IslandsCentral African RepublicChadChileChinaChristmas IslandCocos (Keeling) IslandsColombiaComorosCongoCongo (Democratic Republic of the)Cook IslandsCosta RicaCroatiaCubaCuraçaoCyprusCzech RepublicCôte d'IvoireDenmarkDjiboutiDominicaDominican RepublicEcuadorEgyptEl SalvadorEquatorial GuineaEritreaEstoniaEswatini (Kingdom of)EthiopiaFalkland Islands (Malvinas)Faroe IslandsFijiFinlandFranceFrench GuianaFrench PolynesiaFrench Southern TerritoriesGabonGambiaGeorgiaGermanyGhanaGibraltarGreeceGreenlandGrenadaGuadeloupeGuamGuatemalaGuernseyGuineaGuinea-BissauGuyanaHaitiHeard Island and McDonald IslandsHondurasHong KongHungaryIcelandIndiaIndonesiaIran (Islamic Republic of)IraqIreland (Republic of)Isle of ManIsraelItalyJamaicaJapanJerseyJordanKazakhstanKenyaKiribatiKorea (Democratic People's Republic of)Korea (Republic of)KosovoKuwaitKyrgyzstanLao People's Democratic RepublicLatviaLebanonLesothoLiberiaLibyaLiechtensteinLithuaniaLuxembourgMacaoMadagascarMalawiMalaysiaMaldivesMaliMaltaMarshall IslandsMartiniqueMauritaniaMauritiusMayotteMexicoMicronesia (Federated States of)Moldova (Republic of)MonacoMongoliaMontenegroMontserratMoroccoMozambiqueMyanmarNamibiaNauruNepalNetherlandsNew CaledoniaNew ZealandNicaraguaNigerNigeriaNiueNorfolk IslandNorth Macedonia (Republic of)Northern Mariana IslandsNorwayOmanPakistanPalauPalestine (State of)PanamaPapua New GuineaParaguayPeruPhilippinesPitcairnPolandPortugalPuerto RicoQatarRomaniaRussian FederationRwandaRéunionSaint BarthélemySaint Helena\, Ascension and Tristan da CunhaSaint Kitts and NevisSaint LuciaSaint Martin (French part)Saint Pierre and MiquelonSaint Vincent and the GrenadinesSamoaSan MarinoSao Tome and PrincipeSaudi ArabiaSenegalSerbiaSeychellesSierra LeoneSingaporeSint Maarten (Dutch part)SlovakiaSloveniaSolomon IslandsSomaliaSouth AfricaSouth Georgia and the South Sandwich IslandsSouth SudanSpainSri LankaSudanSurinameSvalbard and Jan MayenSwedenSwitzerlandSyrian Arab RepublicTaiwan\, Republic of ChinaTajikistanTanzania (United Republic of)ThailandTimor-LesteTogoTokelauTongaTrinidad and TobagoTunisiaTurkmenistanTurks and Caicos IslandsTuvaluTürkiyeUgandaUkraineUnited Arab EmiratesUnited Kingdom of Great Britain and Northern IrelandUnited States Minor Outlying IslandsUnited States of AmericaUruguayUzbekistanVanuatuVatican City StateVenezuela (Bolivarian Republic of)VietnamVirgin Islands (British)Virgin Islands (U.S.)Wallis and FutunaWestern SaharaYemenZambiaZimbabweÅland IslandsCountryDriver's Date of Birth *Co-Driver's age groupUnder 1919-2526-3536-6061 plusDriver's Emergency Contact Name *Driver's Emergency Contact Number *NextCO-DRIVER INFO / INFO COPILOTECo-Driver's name *FirstLastCo-Driver's Email Address  *Co-Driver's Mobile Number *Co-Driver's Physical AddressAddress Line 1Address Line 2CityState / Province / RegionPostal Code--- Select country ---AfghanistanAlbaniaAlgeriaAmerican SamoaAndorraAngolaAnguillaAntarcticaAntigua and BarbudaArgentinaArmeniaArubaAustraliaAustriaAzerbaijanBahamasBahrainBangladeshBarbadosBelarusBelgiumBelizeBeninBermudaBhutanBolivia (Plurinational State of)Bonaire\, Saint Eustatius and SabaBosnia and HerzegovinaBotswanaBouvet IslandBrazilBritish Indian Ocean TerritoryBrunei DarussalamBulgariaBurkina FasoBurundiCabo VerdeCambodiaCameroonCanadaCayman IslandsCentral African RepublicChadChileChinaChristmas IslandCocos (Keeling) IslandsColombiaComorosCongoCongo (Democratic Republic of the)Cook IslandsCosta RicaCroatiaCubaCuraçaoCyprusCzech RepublicCôte d'IvoireDenmarkDjiboutiDominicaDominican RepublicEcuadorEgyptEl SalvadorEquatorial GuineaEritreaEstoniaEswatini (Kingdom of)EthiopiaFalkland Islands (Malvinas)Faroe IslandsFijiFinlandFranceFrench GuianaFrench PolynesiaFrench Southern TerritoriesGabonGambiaGeorgiaGermanyGhanaGibraltarGreeceGreenlandGrenadaGuadeloupeGuamGuatemalaGuernseyGuineaGuinea-BissauGuyanaHaitiHeard Island and McDonald IslandsHondurasHong KongHungaryIcelandIndiaIndonesiaIran (Islamic Republic of)IraqIreland (Republic of)Isle of ManIsraelItalyJamaicaJapanJerseyJordanKazakhstanKenyaKiribatiKorea (Democratic People's Republic of)Korea (Republic of)KosovoKuwaitKyrgyzstanLao People's Democratic RepublicLatviaLebanonLesothoLiberiaLibyaLiechtensteinLithuaniaLuxembourgMacaoMadagascarMalawiMalaysiaMaldivesMaliMaltaMarshall IslandsMartiniqueMauritaniaMauritiusMayotteMexicoMicronesia (Federated States of)Moldova (Republic of)MonacoMongoliaMontenegroMontserratMoroccoMozambiqueMyanmarNamibiaNauruNepalNetherlandsNew CaledoniaNew ZealandNicaraguaNigerNigeriaNiueNorfolk IslandNorth Macedonia (Republic of)Northern Mariana IslandsNorwayOmanPakistanPalauPalestine (State of)PanamaPapua New GuineaParaguayPeruPhilippinesPitcairnPolandPortugalPuerto RicoQatarRomaniaRussian FederationRwandaRéunionSaint BarthélemySaint Helena\, Ascension and Tristan da CunhaSaint Kitts and NevisSaint LuciaSaint Martin (French part)Saint Pierre and MiquelonSaint Vincent and the GrenadinesSamoaSan MarinoSao Tome and PrincipeSaudi ArabiaSenegalSerbiaSeychellesSierra LeoneSingaporeSint Maarten (Dutch part)SlovakiaSloveniaSolomon IslandsSomaliaSouth AfricaSouth Georgia and the South Sandwich IslandsSouth SudanSpainSri LankaSudanSurinameSvalbard and Jan MayenSwedenSwitzerlandSyrian Arab RepublicTaiwan\, Republic of ChinaTajikistanTanzania (United Republic of)ThailandTimor-LesteTogoTokelauTongaTrinidad and TobagoTunisiaTurkmenistanTurks and Caicos IslandsTuvaluTürkiyeUgandaUkraineUnited Arab EmiratesUnited Kingdom of Great Britain and Northern IrelandUnited States Minor Outlying IslandsUnited States of AmericaUruguayUzbekistanVanuatuVatican City StateVenezuela (Bolivarian Republic of)VietnamVirgin Islands (British)Virgin Islands (U.S.)Wallis and FutunaWestern SaharaYemenZambiaZimbabweÅland IslandsCountryCo-Driver's Date of Birth *Co-Driver's age groupUnder 1919-2526-3536-6061 plusCo-Driver's Emergency Contact Name *Co-Driver's Emergency Contact Number *NextVEHICLE DETAILS / INFO VEHICULEVehicle Make *Vehicle Model *Registration Number (if it is registered)Engine Capacity (cc's)Year of ManufactureLog Book Number (If you have one)NextNextENTREE FEES / FRAIS D'INSCRIPTIONChoose the category you are in: *ONE DAY VRC 4WD ALLCOMERS - The rally registration fee includesis just for the participation of the rally and doesn't anything. - 20\,000 VUVONE DAY VRC 2WD ALLCOMERS - The rally registration fee includesis just for the participation of the rally and doesn't anything. - 20\,000 VUVONE DAY VRC QUAD ALLCOMERS - The rally registration fee includesis just for the participation of the rally and doesn't anything. - 8\,000 VUVMember ship Automobile Club De Port-VilaPrice: 5\,000 VUV012345678910QuanitityTotal\n	\n		Order Summary\n		\n			\n				Item\n				\n					Quantity\n					Qty\n				\n				Total\n			\n		\n		\n			\n				There are no products selected.\n			\n			Choose the category you are in: - ONE DAY VRC 4WD ALLCOMERS - The rally registration fee includesis just for the participation of the rally and doesn't anything.120\,000 VUVChoose the category you are in: - ONE DAY VRC 2WD ALLCOMERS - The rally registration fee includesis just for the participation of the rally and doesn't anything.120\,000 VUVChoose the category you are in: - ONE DAY VRC QUAD ALLCOMERS - The rally registration fee includesis just for the participation of the rally and doesn't anything.18\,000 VUVMember ship Automobile Club De Port-Vila00 VUVTotal0 VUV		\n	\n\n0 VUVI WILL PAY BY / LE PAIEMENT SERA FAIT PARCashCheque (to be addressed to ACPV)Bank Transfer (Bank Details below)		\n			Address Choose you\n			\n		\n		ACPV Bank Details\nName: Automobile Club de Port Vila\nBank: Bred Bank Vanuatu\nSWIFT Code: BREDVUVX\nAccount Number: 000245151010019 \nUpload Signed indemnity Form (download it from link below)\n	\n		\n			\n		\n\n		\n							Drag & Drop Files\, 				Choose Files to Upload\n					\n\n			\n\n\n\nFirst download INDEMNITY FORM from link below\, sign it and upload it here\, to submit with your entry form.Download Indemnity FormSubmit  The Takara Rally is a popular motorsport event set against the scenic backdrop of Takara (North Efate)\, Vanuatu. Known for its challenging terrain and thrilling stages\, this rally attracts skilled drivers and motorsport enthusiasts from across the region. The Takara Rally promises an unforgettable experience for participants and spectators alike.
URL:https://vanuaturally.com.vu/event/takara-rally/
LOCATION:Takara Airport Strip\, Shefa\, Vanuatu
CATEGORIES:Event,Upcoming events
ATTACH;FMTTYPE=image/png:https://vanuaturally.com.vu/wp-content/uploads/2025/01/Takara-Rally.png
ORGANIZER;CN="Vanuatu Rally Championship":MAILTO:contact@vanuaturally.com
END:VEVENT
BEGIN:VEVENT
DTSTART;VALUE=DATE:20250419
DTEND;VALUE=DATE:20250420
DTSTAMP:20260426T065756
CREATED:20250126T210713Z
LAST-MODIFIED:20250429T072034Z
UID:12284-1745020800-1745107199@vanuaturally.com.vu
SUMMARY:Eton Rally
DESCRIPTION:The Eton Rally is a competitive rally event here in Vanuatu\, featuring challenging stages and scenic terrain. It’s a highlight for drivers and fans seeking high-speed action. This rally tests the skills and endurance of drivers and teams. There will be 100km of special stages during the day.
URL:https://vanuaturally.com.vu/event/eton-rally/
LOCATION:Eton\, Vanuatu
CATEGORIES:Event,Upcoming events
ATTACH;FMTTYPE=image/png:https://vanuaturally.com.vu/wp-content/uploads/2025/01/Eton-Rally.png
ORGANIZER;CN="Vanuatu Rally Championship":MAILTO:contact@vanuaturally.com
END:VEVENT
BEGIN:VEVENT
DTSTART;TZID=Pacific/Efate:20241122T120000
DTEND;TZID=Pacific/Efate:20241124T120000
DTSTAMP:20260426T065756
CREATED:20241025T001208Z
LAST-MODIFIED:20241025T001208Z
UID:11507-1732276800-1732449600@vanuaturally.com.vu
SUMMARY:International Rally 2024
DESCRIPTION:
URL:https://vanuaturally.com.vu/event/international-rally-2024/
CATEGORIES:Event,Upcoming events
ATTACH;FMTTYPE=image/webp:https://vanuaturally.com.vu/wp-content/uploads/2024/10/a484bb65-1cdf-4a4f-8114-4a5732b821e5.webp
ORGANIZER;CN="Vanuatu Rally Championship":MAILTO:contact@vanuaturally.com
END:VEVENT
END:VCALENDAR